BEGIN:VCALENDAR
VERSION:2.0
PRODID:-//Heinrich-Boell-Gymnasium - ECPv6.15.20//NONSGML v1.0//EN
CALSCALE:GREGORIAN
METHOD:PUBLISH
X-WR-CALNAME:Heinrich-Boell-Gymnasium
X-ORIGINAL-URL:https://hbg-lu.com
X-WR-CALDESC:Veranstaltungen für Heinrich-Boell-Gymnasium
REFRESH-INTERVAL;VALUE=DURATION:PT1H
X-Robots-Tag:noindex
X-PUBLISHED-TTL:PT1H
BEGIN:VTIMEZONE
TZID:Europe/Berlin
BEGIN:DAYLIGHT
TZOFFSETFROM:+0100
TZOFFSETTO:+0200
TZNAME:CEST
DTSTART:20240331T010000
END:DAYLIGHT
BEGIN:STANDARD
TZOFFSETFROM:+0200
TZOFFSETTO:+0100
TZNAME:CET
DTSTART:20241027T010000
END:STANDARD
BEGIN:DAYLIGHT
TZOFFSETFROM:+0100
TZOFFSETTO:+0200
TZNAME:CEST
DTSTART:20250330T010000
END:DAYLIGHT
BEGIN:STANDARD
TZOFFSETFROM:+0200
TZOFFSETTO:+0100
TZNAME:CET
DTSTART:20251026T010000
END:STANDARD
BEGIN:DAYLIGHT
TZOFFSETFROM:+0100
TZOFFSETTO:+0200
TZNAME:CEST
DTSTART:20260329T010000
END:DAYLIGHT
BEGIN:STANDARD
TZOFFSETFROM:+0200
TZOFFSETTO:+0100
TZNAME:CET
DTSTART:20261025T010000
END:STANDARD
END:VTIMEZONE
BEGIN:VEVENT
DTSTART;TZID=Europe/Berlin:20251217T183000
DTEND;TZID=Europe/Berlin:20251217T200000
DTSTAMP:20260425T133145
CREATED:20250918T073238Z
LAST-MODIFIED:20251127T140401Z
UID:7200-1765996200-1766001600@hbg-lu.com
SUMMARY:Weihnachtskonzert und anschließend Winterumtrunk
DESCRIPTION:Der SEB und der Verein der Freunde des HBG laden alle Besucherinnen und Besucher des Weihnachtskonzerts im Anschluss ein\, im Gemeindehaus der Kirche bei Punsch\, Glühwein und Kuchen den Abend ausklingen zu lassen.
URL:https://hbg-lu.com/termine/weihnachtskonzert/
END:VEVENT
END:VCALENDAR